BEGIN:VCALENDAR
VERSION:2.0
PRODID:-//Dr Rahul Reddy - ECPv6.1.3//NONSGML v1.0//EN
CALSCALE:GREGORIAN
METHOD:PUBLISH
X-WR-CALNAME:Dr Rahul Reddy
X-ORIGINAL-URL:https://kidsendocrine.com
X-WR-CALDESC:Events for Dr Rahul Reddy
REFRESH-INTERVAL;VALUE=DURATION:PT1H
X-Robots-Tag:noindex
X-PUBLISHED-TTL:PT1H
BEGIN:VTIMEZONE
TZID:UTC
BEGIN:STANDARD
TZOFFSETFROM:+0000
TZOFFSETTO:+0000
TZNAME:UTC
DTSTART:20170101T000000
END:STANDARD
END:VTIMEZONE
BEGIN:VEVENT
DTSTART;TZID=UTC:20170526T080000
DTEND;TZID=UTC:20170726T175900
DTSTAMP:20260425T151856
CREATED:20160730T024512Z
LAST-MODIFIED:20200228T051619Z
UID:9363-1495785600-1501091940@kidsendocrine.com
SUMMARY:National Event Support
DESCRIPTION:From mud runs to marathons\, commercial filming to private staffing\, we can take medical planning and staffing off your plate and devour it up. \nNot sure how to get your permit approved because of safety considerations? We’ve brought together disparate agencies and stakeholders to create successful permit applications. \nDon’t know how to write an operational plan? We have helped others figure it out how to cover 30\,000 spectators and attendees with excellent medical care. \nIf you need it done efficiently and effectively\, just ask and we will get down to business with a smile on our face.
URL:https://kidsendocrine.com/event/national-event-support/
LOCATION:New york\, State bird\, Kansas\, KS\, United States
CATEGORIES:Event
ATTACH;FMTTYPE=image/jpeg:https://kidsendocrine.com/wp-content/uploads/2016/05/blog_demo.jpg
END:VEVENT
BEGIN:VEVENT
DTSTART;TZID=UTC:20170606T080000
DTEND;TZID=UTC:20171028T175900
DTSTAMP:20260425T151856
CREATED:20160730T023803Z
LAST-MODIFIED:20200228T052705Z
UID:9361-1496736000-1509213540@kidsendocrine.com
SUMMARY:Emergency Anaesthetic Team
DESCRIPTION:At large events supported by the Event Medicine Company (EMC) a designated team of pre-hospital care practitioners is available to deliver advanced airway interventions up to and including pre-hospital emergency anaesthesia (PHEA\,) anywhere it may be required on site or in the immediate surrounding area. \nThe Emergency Anaesthetic Team consists of 2 clinical staff\, a doctor and a nurse\, paramedic or operating department practitioner\, all of whom are trained and experienced in the provision of PHEA. The team is available for deployment when requested by anEMC asset on scene or at the request of the local statutory ambulance service. \nAt Farnborough International Airshow the Emergency Anaesthetic Team members are integrated with the Casualty Clearing Team but can be utilised independently should the need arise.
URL:https://kidsendocrine.com/event/curabitur-arcu-erat-accumsan-id-imperdiet-et-porttitor-at-sem-2/
LOCATION:New york\, State bird\, Kansas\, KS\, United States
CATEGORIES:Event
ATTACH;FMTTYPE=image/jpeg:https://kidsendocrine.com/wp-content/uploads/2016/05/blog_demo.jpg
END:VEVENT
END:VCALENDAR