BEGIN:VCALENDAR
VERSION:2.0
PRODID:-//Dr Rahul Reddy - ECPv6.1.3//NONSGML v1.0//EN
CALSCALE:GREGORIAN
METHOD:PUBLISH
X-ORIGINAL-URL:https://kidsendocrine.com
X-WR-CALDESC:Events for Dr Rahul Reddy
REFRESH-INTERVAL;VALUE=DURATION:PT1H
X-Robots-Tag:noindex
X-PUBLISHED-TTL:PT1H
BEGIN:VTIMEZONE
TZID:UTC
BEGIN:STANDARD
TZOFFSETFROM:+0000
TZOFFSETTO:+0000
TZNAME:UTC
DTSTART:20170101T000000
END:STANDARD
END:VTIMEZONE
BEGIN:VEVENT
DTSTART;TZID=UTC:20170119T080000
DTEND;TZID=UTC:20170219T080000
DTSTAMP:20260425T132822
CREATED:20160830T024820Z
LAST-MODIFIED:20160830T024820Z
UID:9364-1484812800-1487491200@kidsendocrine.com
SUMMARY:Scheduling an Appointment
DESCRIPTION:Opens in a new window appointments are strongly encouraged so that Medical Services staff may be sensitive to any time constraints. It is also helpful if you provide basic information about the reason for your intended visit (e.g.\, stomach pains\, headache\, travel assessment\, pregnancy screening\, prescription refill). We will work with you to arrange an appointment with your regular provider. \nEveryone is assigned a Medical Services provider or PCP. The assignment process is random and is done by computer. You can change your provider at any time. If you know your PCP\, or if you wish to change your provider\, please let the person scheduling your appointment know.
URL:https://kidsendocrine.com/event/scheduling-an-appointment/
LOCATION:New york\, State bird\, Kansas\, KS\, United States
CATEGORIES:Event
ATTACH;FMTTYPE=image/jpeg:https://kidsendocrine.com/wp-content/uploads/2016/05/blog_demo.jpg
END:VEVENT
END:VCALENDAR